BEGIN:VCALENDAR
VERSION:2.0
PRODID:-//wp-events-plugin.com//7.2.3.1//EN
BEGIN:VEVENT
UID:180@reconversion.pompiersparis.fr
DTSTART;TZID=Europe/Paris:20250204T080000
DTEND;TZID=Europe/Paris:20250204T123000
DTSTAMP:20250203T085912Z
URL:https://reconversion.pompiersparis.fr/events/journee-decouverte-metier
 s-04-02-2025/
SUMMARY:Journée découverte métiers - 04/02/2025
DESCRIPTION:La Section Reconversion organise une demi-journée dédiée à 
 la découverte des métiers\, mettant en lumière les opportunités profes
 sionnelles au sein de nos entreprises partenaires.\n\nVous êtes en pleine
  réflexion sur votre avenir professionnel ou celui de votre conjoint ? Ne
  manquez pas cette occasion unique d’explorer de nouvelles opportunités
  auprès de nos partenaires.\n\nCette demi-journée est spécialement dest
 inée aux sapeurs-pompiers de Paris en phase de reconversion de plus de 10
  ans de service\, ainsi qu'à leurs conjoints\, anciens sapeurs-pompiers d
 e Paris et blessés.\n\nDate et Lieu :\n\n 	Date : Mardi 04 Février 2025\
 n 	Heure : 08h00 - 12h30\n 	Lieu : État-Major G3\, 12 – 14\, Rue Henri 
 Régnault 92400 COURBEVOIE\n\nEntreprises Présentes :\n\n 	Colas : Filial
 e du groupe Bouygues\, Colas est un leader mondial dans la construction et
  l’entretien d’infrastructures de transport. Elle est spécialisée da
 ns les routes\, les infrastructures ferroviaires\, et la gestion des maté
 riaux\, avec une forte présence en France et à l'international.\n 	SERIS
  Security : Spécialisée dans la sécurité privée\, SERIS Security prop
 ose des services de surveillance\, de gardiennage\, et de sécurité évé
 nementielle. Elle met un point d'honneur à garantir la sûreté des biens
  et des personnes à travers des solutions adaptées et innovantes.\n 	Des
 autel : Desautel est une entreprise française reconnue dans le domaine de
  la sécurité incendie. Elle conçoit\, fabrique\, et maintient des équi
 pements tels que les extincteurs et systèmes de protection incendie\, tou
 t en offrant des services de formation à la prévention des risques.\n 	M
 airie de Clichy (92) : Située dans les Hauts-de-Seine\, la Mairie de Clic
 hy est une institution locale qui gère les services publics de la ville. 
 Elle s'engage dans des projets visant à améliorer la qualité de vie des
  habitants\, notamment en matière d’urbanisme\, d’éducation\, et de 
 sécurité.\n\nDéroulement :\n\nde 8H à 12H30\, chaque entreprise dispos
 era de 45 min pour se présenter suivi d'un temps pour échanger avec vous
 \, répondant ainsi à toutes vos questions.\n\nConditions d'Inscription :
 \n\n 	L’événement est ouvert aux sapeurs-pompiers de Paris (actifs ou 
 anciens\, avec plus de 10 ans de service)\, aux militaires ou anciens mili
 taires en reconversion\, ainsi qu’à leurs conjoints.\n\nVotre inscripti
 on à cette journée implique votre engagement à y participer. Une tenue 
 correcte et adaptée au contexte professionnel est requise. Carte d'identi
 té obligatoire pour l'accès au site.\n\nNous sommes impatients de vous a
 ccueillir et de faciliter ces échanges qui pourraient être déterminants
  pour votre avenir professionnel.
ATTACH;FMTTYPE=image/jpeg:https://reconversion.pompiersparis.fr/wp-content
 /uploads/2024/12/04-02-carre.jpg
CATEGORIES:Journées recrutement &amp; informations
LOCATION:Courbevoie – 3ème Groupement d’incendie et de secours\, 12 ru
 e Henri Regnault\, Courbevoie\, 92400\, Ile-de-France\, France
GEO:48.892872;2.244503
X-APPLE-STRUCTURED-LOCATION;VALUE=URI;X-ADDRESS=12 rue Henri Regnault\, Cou
 rbevoie\, 92400\, Ile-de-France\, France;X-APPLE-RADIUS=100;X-TITLE=Courbe
 voie – 3ème Groupement d’incendie et de secours:geo:48.892872,2.24450
 3
END:VEVENT
BEGIN:VTIMEZONE
TZID:Europe/Paris
X-LIC-LOCATION:Europe/Paris
BEGIN:STANDARD
DTSTART:20241027T020000
TZOFFSETFROM:+0200
TZOFFSETTO:+0100
TZNAME:CET
END:STANDARD
END:VTIMEZONE
END:VCALENDAR