BEGIN:VCALENDAR
VERSION:2.0
PRODID:-//wp-events-plugin.com//7.2.3.1//EN
BEGIN:VEVENT
UID:23@reconversion.pompiersparis.fr
DTSTART;TZID=Africa/Abidjan:20221020T093000
DTEND;TZID=Africa/Abidjan:20221020T120000
DTSTAMP:20221019T144107Z
URL:https://reconversion.pompiersparis.fr/events/information-collective-re
 conversion-vae-g2/
SUMMARY:Information collective reconversion + VAE G2
DESCRIPTION:Vous êtes militaire Sapeur-Pompiers de Paris en activité au 2
 ème groupement d'incendie et de secours.\n\nLe bureau Reconversion vous a
 ccompagne tout au long de votre reconversion\, avec un suivi individuel et
  personnalisé.\n\nÀ l'issue d'une information générale\, un conseiller
  référent vous accompagnera pendant toutes les étapes de votre parcours
  de transition professionnelle\, du premier entretien jusqu’à votre int
 égration dans votre nouvel emploi.\n\nNous plaçons votre projet professi
 onnel au cœur de nos priorités. Un projet auquel vous croyez\, mais qui 
 soit également réaliste et réalisable\, c'est la première clé d'une r
 econversion réussie !\n\nInfo collective sur la reconversion + VAE\n\n\n&
 nbsp\;
CATEGORIES:Informations Collectives
LOCATION:Massena - 2ème Groupement d'incendie et de secours\, 16 avenue Bo
 utroux\, Paris\, 75013\, Ile-de-France\, France
GEO:48.822214;2.374906
X-APPLE-STRUCTURED-LOCATION;VALUE=URI;X-ADDRESS=16 avenue Boutroux\, Paris\
 , 75013\, Ile-de-France\, France;X-APPLE-RADIUS=100;X-TITLE=Massena - 2èm
 e Groupement d'incendie et de secours:geo:48.822214,2.374906
END:VEVENT
BEGIN:VTIMEZONE
TZID:Africa/Abidjan
X-LIC-LOCATION:Africa/Abidjan
BEGIN:STANDARD
DTSTART:20211020T093000
TZOFFSETFROM:+0000
TZOFFSETTO:+0000
TZNAME:GMT
END:STANDARD
END:VTIMEZONE
END:VCALENDAR