BEGIN:VCALENDAR
VERSION:2.0
PRODID:-//wp-events-plugin.com//7.2.3.1//EN
BEGIN:VEVENT
UID:26@reconversion.pompiersparis.fr
DTSTART;TZID=Africa/Abidjan:20221110T133000
DTEND;TZID=Africa/Abidjan:20221110T163000
DTSTAMP:20221019T145037Z
URL:https://reconversion.pompiersparis.fr/events/information-collective-re
 conversion-vae-3/
SUMMARY:Information collective reconversion + VAE
DESCRIPTION:Vous êtes militaire Sapeur-Pompiers de Paris en activité ? La
  bureau Reconversion vous accompagne tout au long de votre reconversion\, 
 avec un suivi individuel et personnalisé.\n\nÀ l'issue d'une information
  générale\, un conseiller référent vous accompagnera pendant toutes le
 s étapes de votre parcours de transition professionnelle\, du premier ent
 retien jusqu’à votre intégration dans votre nouvel emploi.\n\nNous pla
 çons votre projet professionnel au cœur de nos priorités. Un projet auq
 uel vous croyez\, mais qui soit également réaliste et réalisable\, c'es
 t la première clé d'une reconversion réussie !\n\nInfo collective sur l
 a reconversion + VAE\n\n\nUne inscription a cette journée\, vous engage a
  être présent.\n\n&nbsp\;
CATEGORIES:Informations Collectives
LOCATION:Centre de secours Boulogne\, 57 rue Gallieni 92100  \, Boulogne-Bi
 llancourt\, 92100\, Île-de-France\, France
GEO:48.8374;2.247428
X-APPLE-STRUCTURED-LOCATION;VALUE=URI;X-ADDRESS=57 rue Gallieni 92100  \, B
 oulogne-Billancourt\, 92100\, Île-de-France\, France;X-APPLE-RADIUS=100;X
 -TITLE=Centre de secours Boulogne:geo:48.8374,2.247428
END:VEVENT
BEGIN:VTIMEZONE
TZID:Africa/Abidjan
X-LIC-LOCATION:Africa/Abidjan
BEGIN:STANDARD
DTSTART:20211110T133000
TZOFFSETFROM:+0000
TZOFFSETTO:+0000
TZNAME:GMT
END:STANDARD
END:VTIMEZONE
END:VCALENDAR