BEGIN:VCALENDAR
VERSION:2.0
PRODID:-//wp-events-plugin.com//7.2.3.1//EN
BEGIN:VEVENT
UID:174@reconversion.pompiersparis.fr
DTSTART;TZID=Europe/Paris:20250520T083000
DTEND;TZID=Europe/Paris:20250520T100000
DTSTAMP:20250303T133138Z
URL:https://reconversion.pompiersparis.fr/events/bspp-information-vae-em-c
 hpt-13-05-2025/
SUMMARY:BSPP - information VAE - EM CHPT - 20/05/2025
DESCRIPTION:Vous souhaitez vous lancer dans une démarche de Validation d
 ’Acquis d’Expérience (VAE).La première étape est la participation 
 à une réunion d’information collective VAE.\n\nRéunion d'information 
 sur le site de Champerret\, salle multimédia\, le 20/05 de 08h30 à 10h.\
 n\nPrévoir une pièce d'identité pour rentrer dans l’état-major.
ATTACH;FMTTYPE=image/jpeg:https://reconversion.pompiersparis.fr/wp-content
 /uploads/2021/07/arche-de-la-defense.png
CATEGORIES:Validation d'Acquis et de l'Expérience
LOCATION:Champerret - salle multimédia\, 1 place Jules Renard\, Paris\, 75
 017\, Ile-de-France\, France
GEO:48.884525;2.28882
X-APPLE-STRUCTURED-LOCATION;VALUE=URI;X-ADDRESS=1 place Jules Renard\, Pari
 s\, 75017\, Ile-de-France\, France;X-APPLE-RADIUS=100;X-TITLE=Champerret -
  salle multimédia:geo:48.884525,2.28882
END:VEVENT
BEGIN:VTIMEZONE
TZID:Europe/Paris
X-LIC-LOCATION:Europe/Paris
BEGIN:DAYLIGHT
DTSTART:20250330T030000
TZOFFSETFROM:+0100
TZOFFSETTO:+0200
TZNAME:CEST
END:DAYLIGHT
END:VTIMEZONE
END:VCALENDAR